BEGIN:VCALENDAR
VERSION:2.0
PRODID:-//The Kaiapoi Golf Club - ECPv5.3.0//NONSGML v1.0//EN
CALSCALE:GREGORIAN
METHOD:PUBLISH
X-WR-CALNAME:The Kaiapoi Golf Club
X-ORIGINAL-URL:https://kaiapoigolf.co.nz
X-WR-CALDESC:Events for The Kaiapoi Golf Club
BEGIN:VTIMEZONE
TZID:Pacific/Auckland
BEGIN:STANDARD
TZOFFSETFROM:+1300
TZOFFSETTO:+1200
TZNAME:NZST
DTSTART:20210403T140000
END:STANDARD
BEGIN:DAYLIGHT
TZOFFSETFROM:+1200
TZOFFSETTO:+1300
TZNAME:NZDT
DTSTART:20210925T140000
END:DAYLIGHT
END:VTIMEZONE
BEGIN:VEVENT
DTSTART;VALUE=DATE:20210102
DTEND;VALUE=DATE:20210103
DTSTAMP:20210119T201052
CREATED:20201229T231043Z
LAST-MODIFIED:20201229T231320Z
UID:85362-1609545600-1609631999@kaiapoigolf.co.nz
SUMMARY:Members "Bring a Visitor" (for free)
DESCRIPTION:
URL:https://kaiapoigolf.co.nz/event/members-bring-a-visitor-for-free/
END:VEVENT
BEGIN:VEVENT
DTSTART;TZID=Pacific/Auckland:20210105T090000
DTEND;TZID=Pacific/Auckland:20210105T130000
DTSTAMP:20210119T201052
CREATED:20201203T012214Z
LAST-MODIFIED:20201203T012225Z
UID:84736-1609837200-1609851600@kaiapoigolf.co.nz
SUMMARY:Casserley R5
DESCRIPTION:
URL:https://kaiapoigolf.co.nz/event/9am-1pm-casserley-r5/
END:VEVENT
BEGIN:VEVENT
DTSTART;TZID=Pacific/Auckland:20210106T160000
DTEND;TZID=Pacific/Auckland:20210106T183000
DTSTAMP:20210119T201052
CREATED:20201203T012455Z
LAST-MODIFIED:20201208T200047Z
UID:84741-1609948800-1609957800@kaiapoigolf.co.nz
SUMMARY:Twilight (12 Holes) Course Closed
DESCRIPTION:
URL:https://kaiapoigolf.co.nz/event/twilight-12-holes-course-closed/2021-01-06/
END:VEVENT
BEGIN:VEVENT
DTSTART;TZID=Pacific/Auckland:20210107T090000
DTEND;TZID=Pacific/Auckland:20210107T130000
DTSTAMP:20210119T201052
CREATED:20200929T093011Z
LAST-MODIFIED:20210114T011837Z
UID:83965-1610010000-1610024400@kaiapoigolf.co.nz
SUMMARY:Thursday Club Shotgun Start
DESCRIPTION:
URL:https://kaiapoigolf.co.nz/event/thursday-club-shotgun-start-6/2021-01-07/
LOCATION:Kaiapoi Golf Club\, 373 Williams St\, Kaiapoi\, 7630\, New Zealand
END:VEVENT
BEGIN:VEVENT
DTSTART;VALUE=DATE:20210109
DTEND;VALUE=DATE:20210110
DTSTAMP:20210119T201052
CREATED:20201229T231137Z
LAST-MODIFIED:20201229T231137Z
UID:85364-1610150400-1610236799@kaiapoigolf.co.nz
SUMMARY:Members "Bring a Visitor" (for free)
DESCRIPTION:
URL:https://kaiapoigolf.co.nz/event/members-bring-a-visitor-for-free-2/
END:VEVENT
BEGIN:VEVENT
DTSTART;TZID=Pacific/Auckland:20210112T090000
DTEND;TZID=Pacific/Auckland:20210112T130000
DTSTAMP:20210119T201052
CREATED:20201203T012305Z
LAST-MODIFIED:20201203T012305Z
UID:84739-1610442000-1610456400@kaiapoigolf.co.nz
SUMMARY:Casserley R6
DESCRIPTION:
URL:https://kaiapoigolf.co.nz/event/casserley-r6/
END:VEVENT
BEGIN:VEVENT
DTSTART;TZID=Pacific/Auckland:20210113T160000
DTEND;TZID=Pacific/Auckland:20210113T183000
DTSTAMP:20210119T201052
CREATED:20201203T012455Z
LAST-MODIFIED:20201203T012455Z
UID:84777-1610553600-1610562600@kaiapoigolf.co.nz
SUMMARY:Twilight (12 Holes) Course Closed
DESCRIPTION:
URL:https://kaiapoigolf.co.nz/event/twilight-12-holes-course-closed/2021-01-13/
END:VEVENT
BEGIN:VEVENT
DTSTART;TZID=Pacific/Auckland:20210114T090000
DTEND;TZID=Pacific/Auckland:20210114T130000
DTSTAMP:20210119T201052
CREATED:20200929T093011Z
LAST-MODIFIED:20210114T011837Z
UID:83966-1610614800-1610629200@kaiapoigolf.co.nz
SUMMARY:Thursday Club Shotgun Start
DESCRIPTION:
URL:https://kaiapoigolf.co.nz/event/thursday-club-shotgun-start-6/2021-01-14/
LOCATION:Kaiapoi Golf Club\, 373 Williams St\, Kaiapoi\, 7630\, New Zealand
END:VEVENT
BEGIN:VEVENT
DTSTART;TZID=Pacific/Auckland:20210116T110000
DTEND;TZID=Pacific/Auckland:20210116T150000
DTSTAMP:20210119T201052
CREATED:20201208T202854Z
LAST-MODIFIED:20210103T211838Z
UID:84868-1610794800-1610809200@kaiapoigolf.co.nz
SUMMARY:Official Club Opening Day - Combined Stableford - 11am Shotgun Start - Mixed Pairs play for Mercer Salver
DESCRIPTION:
URL:https://kaiapoigolf.co.nz/event/official-club-opening-day-stableford-11am-shotgun-start/
END:VEVENT
BEGIN:VEVENT
DTSTART;TZID=Pacific/Auckland:20210117T090000
DTEND;TZID=Pacific/Auckland:20210117T094500
DTSTAMP:20210119T201052
CREATED:20201210T210346Z
LAST-MODIFIED:20201210T210346Z
UID:85109-1610874000-1610876700@kaiapoigolf.co.nz
SUMMARY:The Pegasus Social Golf Club - 20 Players
DESCRIPTION:
URL:https://kaiapoigolf.co.nz/event/the-pegasus-social-golf-club-20-players/
END:VEVENT
BEGIN:VEVENT
DTSTART;TZID=Pacific/Auckland:20210119T090000
DTEND;TZID=Pacific/Auckland:20210119T130000
DTSTAMP:20210119T201052
CREATED:20201208T200323Z
LAST-MODIFIED:20201208T200323Z
UID:84785-1611046800-1611061200@kaiapoigolf.co.nz
SUMMARY:Pearce Trophy R1 (first day of ringers)
DESCRIPTION:
URL:https://kaiapoigolf.co.nz/event/pearce-trophy-r1-first-day-of-ringers/
END:VEVENT
BEGIN:VEVENT
DTSTART;TZID=Pacific/Auckland:20210120T160000
DTEND;TZID=Pacific/Auckland:20210120T183000
DTSTAMP:20210119T201052
CREATED:20201203T012455Z
LAST-MODIFIED:20201203T012455Z
UID:84778-1611158400-1611167400@kaiapoigolf.co.nz
SUMMARY:Twilight (12 Holes) Course Closed
DESCRIPTION:
URL:https://kaiapoigolf.co.nz/event/twilight-12-holes-course-closed/2021-01-20/
END:VEVENT
BEGIN:VEVENT
DTSTART;TZID=Pacific/Auckland:20210121T090000
DTEND;TZID=Pacific/Auckland:20210121T130000
DTSTAMP:20210119T201052
CREATED:20200929T093011Z
LAST-MODIFIED:20201216T210408Z
UID:83967-1611219600-1611234000@kaiapoigolf.co.nz
SUMMARY:Thursday Club Shotgun Start
DESCRIPTION:
URL:https://kaiapoigolf.co.nz/event/thursday-club-shotgun-start-6-2021-01-21/
LOCATION:Kaiapoi Golf Club\, 373 Williams St\, Kaiapoi\, 7630\, New Zealand
END:VEVENT
BEGIN:VEVENT
DTSTART;TZID=Pacific/Auckland:20210124T090000
DTEND;TZID=Pacific/Auckland:20210124T100000
DTSTAMP:20210119T201052
CREATED:20201216T195824Z
LAST-MODIFIED:20201216T210940Z
UID:85139-1611478800-1611482400@kaiapoigolf.co.nz
SUMMARY:Riccarton/Straven Golf Group - 25 Players - 9am
DESCRIPTION:
URL:https://kaiapoigolf.co.nz/event/riccarton-straven-golf-group-25-players-9am/
END:VEVENT
BEGIN:VEVENT
DTSTART;TZID=Pacific/Auckland:20210124T103000
DTEND;TZID=Pacific/Auckland:20210124T103000
DTSTAMP:20210119T201052
CREATED:20210114T223334Z
LAST-MODIFIED:20210114T223334Z
UID:85639-1611484200-1611484200@kaiapoigolf.co.nz
SUMMARY:ARK Golf - Mixed Stableford (Held at Rangiora)
DESCRIPTION:
URL:https://kaiapoigolf.co.nz/event/ark-golf-mixed-stableford-held-at-rangiora/
END:VEVENT
BEGIN:VEVENT
DTSTART;TZID=Pacific/Auckland:20210125T090000
DTEND;TZID=Pacific/Auckland:20210125T130000
DTSTAMP:20210119T201052
CREATED:20201208T200507Z
LAST-MODIFIED:20201208T200507Z
UID:84789-1611565200-1611579600@kaiapoigolf.co.nz
SUMMARY:Women's 18 Hole (6's) Interclub R1
DESCRIPTION:
URL:https://kaiapoigolf.co.nz/event/womens-18-hole-6s-interclub-r1/
END:VEVENT
BEGIN:VEVENT
DTSTART;TZID=Pacific/Auckland:20210126T090000
DTEND;TZID=Pacific/Auckland:20210126T130000
DTSTAMP:20210119T201052
CREATED:20201208T200409Z
LAST-MODIFIED:20201208T200409Z
UID:84787-1611651600-1611666000@kaiapoigolf.co.nz
SUMMARY:Pearce Trophy R2
DESCRIPTION:
URL:https://kaiapoigolf.co.nz/event/pearce-trophy-r2/
END:VEVENT
BEGIN:VEVENT
DTSTART;TZID=Pacific/Auckland:20210127T120000
DTEND;TZID=Pacific/Auckland:20210127T160000
DTSTAMP:20210119T201052
CREATED:20201208T201029Z
LAST-MODIFIED:20201208T201029Z
UID:84855-1611748800-1611763200@kaiapoigolf.co.nz
SUMMARY:Tasteful Affairs Catering Tournament (run by Mike Cross)
DESCRIPTION:
URL:https://kaiapoigolf.co.nz/event/tasteful-affairs-catering-tournament-run-by-mike-cross/2021-01-27/
END:VEVENT
BEGIN:VEVENT
DTSTART;TZID=Pacific/Auckland:20210127T160000
DTEND;TZID=Pacific/Auckland:20210127T183000
DTSTAMP:20210119T201052
CREATED:20201203T012455Z
LAST-MODIFIED:20201203T012455Z
UID:84779-1611763200-1611772200@kaiapoigolf.co.nz
SUMMARY:Twilight (12 Holes) Course Closed
DESCRIPTION:
URL:https://kaiapoigolf.co.nz/event/twilight-12-holes-course-closed/2021-01-27/
END:VEVENT
BEGIN:VEVENT
DTSTART;TZID=Pacific/Auckland:20210128T090000
DTEND;TZID=Pacific/Auckland:20210128T130000
DTSTAMP:20210119T201052
CREATED:20201216T210448Z
LAST-MODIFIED:20201216T210448Z
UID:85154-1611824400-1611838800@kaiapoigolf.co.nz
SUMMARY:Thursday Club Shotgun Start (Team Game)
DESCRIPTION:
URL:https://kaiapoigolf.co.nz/event/thursday-club-shotgun-start-team-game/
END:VEVENT
END:VCALENDAR